Workbook
Name DATA: [1]選手入力!$B$3:$M$109
Name DATA: #N/A
Name DATA: [2]選手入力!$B$3:$M$106
Name DATA: [3]選手入力!$B$3:$M$106

Sheet 最初にお読みください
B3: 記入にあたって注意していただきたいこと
B4: ① | C4: 「入力項目」の緑色のセル(この色)に必要事項を入力してください。
B5: ② | C5: 「入力項目」に必要事項を記入していただくと「県大会申込書」と「プログラム原稿」の大部分には自動的にデータが入ります。
B7: ③ | C7: 所在地に郵便番号は必要ありません。
B9: ④ | C9: 監督・コーチ、主将名、帯同審判名、外部コーチは苗字と名前の間にスペースを１つ入れてください。
B11: ⑤ | C11: 「プログラム（要箇所記入）」監督名の隣のセルにベンチ入りの可能性のある者全員（上限は合計5名）の氏名を書いてください。ここの名前の書いていない場合はベンチ入りできない場合があります。外部指導者は，メンバー表に別欄があるので別欄にもご記入ください。
B13: ⑥ | C13: 登録選手の背番号で使用できるのは１～99のみです。それ以外の番号は使用できません。
B15: ⑦ | C15: 選手名は苗字と名前のセルが別々ですので注意してください。
B17: ⑧ | C17: 身長、体重は今大会より記載しません。以下を記入しても自動的に四捨五入されます。
B18: ⑨ | C18: プログラム原稿のページのユニフォームの欄はご注意ください。 ＊シャツはフィールド、キーパーとも黒・紺不可 ＊黒・紺は正・副フィールド・キーパーのパンツ、ソックスのうち2箇所のみに使用できます。 ＊ユニフォームは正・副が先発・サブともすべて同じでなければなりません。
B19: ⑩ | C19: メンバー提出用紙は「本部用」、「審判用」、「自チーム用」、「相手チーム用」の４部をご用意ください。 学校総合では，準決勝から，新人では，ベスト8から，「広報用」が必要になりますので5部用意してください。
B20: ⑪ | C20: 交代用紙はチームで必要分をプリントアウトしてご用意ください。（色はなんでも結構です）
B21: ⑫ | C21: 地区予選のぺージには地区のベスト４からの勝ち上がりをご記入ください。※さいたま市もお願いします。
B22: ⑬ | C22: メールあて先：kaneko_hato22@yahoo.co.jp
B24: プリントアウトについて
B25: ① | C25: 「県大会申込書」が出来上がりましたら、プリントアウトして職印を押して、代表者会議にご持参ください。（Ａ４版です）
B26: ② | C26: プリンターによっては１枚の紙に収まらない場合があります。そのときはメニューバーから「表示」→「改ページプレビュー」を選んで青い線で表された印刷範囲をマウスでドラッグすることで１ページに収めることが出来ます。
B27: その他
B28: ① | C28: 大会参加費は一人1000円×登録人数分を代表者会議の日にお持ちください。
B29: ② | C29: プロ申込書（冊数要記入）も忘れずに記入して下さい。
B30: ③ | C30: 代表者会議当日は，ユニフォーム確認書，大会申込書をおもちください。（できましたら，正副ユニホームを見本としてお持ち頂ければ，初戦のチーム同士で，ユニフォームの確認ができます。）
B31: ④ | C31: １０月９日(金) １7：００までに 返信をお願いします。 ※ 締切日までに地区予選が終了していない場合、予選終了次第速やかに送信してください。
B32: ⑤ | C32: 原稿の締め切り日と大会の申込日が大幅にずれてしまうため、登録変更がある場合、代表者会議ではなく、原稿締切日以降、変更届が必要になります。
C35: プロクラム代金は初戦までに下記の口座に郡市名を含めた学校名（例：さいたま〇〇中）で振り込んでください。（現金は受け取れません）申し訳ありませんが手数料は各チームでご負担ください。振り込み証明書（コピーでも結構です，ご依頼人の名前を確認したいので）を確認の上，プログラムをお渡しします。 銀行振り込み 埼玉りそな銀行 浦和美園出張所 普通 ００１９７９４ 埼玉県中体連サッカー専門部広報部

Sheet 入力項目
A1: 令和 | D1: 8 | G1: 年度 | W1: 令和 | Z1: ８ | AD1: 年 | AJ1: 月 | AP1: 日
A2: 埼玉県 | I2: 新人 | R2: 体育大会 | X2: サッカーの部 | AG2: 入力シート
A4: ふ り が な | AG4: 群市名 | AR4: プログラムの希望数
A5: チーム名 | BH5: （学）
A6: 所在地 | AS6: 冊 | BH6: （部）
A7: 電 話 | L7: （ | P7: ） | W7: F A X | AH7: （ | AL7: ） | AR7: =AR6*600 -> 0 | AS7: 円 | BH7: （外）
A8: 学校長名 | W8: 監督連絡先 | AH8: （ | AL8: ） | AR8: 地区予選の結果を入力しましたか？
A9: ふりがな | W9: ふりがな
A10: 監督名 | W10: 主将名
A11: コーチ
A12: ふりがな | W12: 電 話 | AH12: ( | AL12: ）
A13: 外部指導者
H14: 住所 | AR14: 外部指導者登録のある場合は、入力いたしましたか？
H15: 職業等 | V15: 性別 | AF15: 年齢 | AP15: 歳
A16: ふりがな | W16: 電 話 | AH16: ( | AL16: ） | AR16: 部活動指導員を設置している学校は、入力していますか？
A17: 部活動指導員
H18: 住所
H19: 任命者 | V19: 性別 | AF19: 年齢 | AP19: 歳
A20: 帯同審判 員名 | H20: ① | S20: （ | AH20: ） | AI20: 審判級 | AP20: 級 | AR20: 帯同審判員の記入を忘れずにお願いします。
H21: 携帯電話等の緊急連絡先を記入してください→
H22: ② | S22: （ | AH22: ） | AI22: 審判級 | AP22: 級
H23: 携帯電話等の緊急連絡先を記入してください→
A24: ユニフォーム | T24: ジャージ | AB24: ショーツ | AJ24: ストッキング
H25: フィールド プレーヤー | Q25: 正
Q26: 副
H27: ゴールキーパー | Q27: 正
Q28: 副
A30: 番号 | D30: 背番号 | G30: 位置 | K30: 氏 | R30: 名 | Y30: ふりがな | AI30: 学年 | AL30: 前所属チーム
A31: １
A32: ２
A33: ３
A34: ４
A35: ５
A36: ６
A37: ７
A38: ８
A39: ９
A40: １０
A41: １１
A42: １２
... A55: ２５
D57: 大会参加費(1000円× | Y57: 人＝ | AB57: =Q57*1000 -> 0 | AO57: 円
A60: アンケート
A61: １.部活動指導員の人数は何人ですか。（登録外の方も含めて） | AQ61: 人
A62: ２.外部指導員の人数は何人ですか。（登録外の方も含めて） | AQ62: 人
A63: ３..登録メンバーのうち、女子選手は何人ですか。 | AQ63: 人
B64: プログラムに掲載される個人情報は個人情報保護法に基づき管理し、目的以外には使用しません。 プログラムは任意の第３者に販売することがあります。 選手氏名は報道機関、埼玉県サッカー協会ホームページに公開することがあります。 以上のことを本人、保護者に承諾を得て下さい。万一承諾が得られなかった場合代表者会議で必ず申し出てください。

Sheet 入力地区予選
A1: トーナメントの場合 | P1: 代表決定戦の場合 | V1: ※ さいたま市の場合 | BA1: 代表決定戦（さいたま市）
R2: - | BC2: - | BI2: -
G4: ＰＫ | R4: ＰＫ | AJ4: ＰＫ | BC4: ＰＫ | BI4: ＰＫ
R5: - | BC5: - | BI5: -
R6: ＰＫ | BC6: ＰＫ | BI6: ＰＫ
C7: PK | K7: PK | R7: - | AB7: ＰＫ | AR7: ＰＫ | BC7: - | BI7: -
R8: ＰＫ | BC8: ＰＫ | BI8: ＰＫ
R9: - | BC9: - | BI9: -
R10: ＰＫ | X10: PK | AF10: PK | AN10: PK | AV10: PK | BC10: ＰＫ | BI10: ＰＫ
R11: -
R12: ＰＫ | BA12: 県大会出場校
R13: -
R14: ＰＫ
A15: 県大会出場校 | R15: -
R16: ＰＫ
P18: 県大会出場校 | V18: 県大会出場校 | AL18: 県大会出場校
A21: ①ベスト４の4チームの名前を郡市（○○市立）から
A22: ②試合結果はトータルの得点のみ
A23: （前後半は経過は不要です）
A24: ③ＰＫの場合のみＰＫのピンクの欄に結果を記入

Sheet 地区予選
B1: 令和８年度 新人体育大会
A2: 【東部地区】
A3: 【加須・行田・羽生】 | J3: 【春日部】 | S3: 【越谷・八潮】 | AB3: 【蓮田・白岡・杉戸・南埼玉郡】 | AK3: 【幸手・久喜】 | AU3: 【吉川・三郷・松伏】 | BE3: 【埼葛代表決定】
BM4: 熊谷荒川
BM10: 入間向原
A27: 【西部地区】
A28: 【富士見・ふじみ野・三芳】 | I28: 【川越】 | R28: 【鶴ヶ島・坂戸・毛呂山・越生】 | Z28: 【所沢】 | AG28: 【狭山】 | AO28: 【入間】 | BB28: 【飯能・日高】 | BI28: 【東松山・比企】
A52: 【南部地区】
A53: 【川口】 | J53: 【蕨・戸田・草加】 | V53: 【朝霞・新座・志木・和光】 | AE53: 【鴻巣・桶川・北本・伊奈】 | AM53: 【上尾】 | AW53: 【西部地区】代表決定戦 | BI53: 【入間】（代表決定）
O56: ー
O61: ー
J67: 【川口第3代表決定】
Y77: 【北部地区】
A78: 【さいたま】 | Y78: 【秩父・横瀬・皆野・小鹿野・長瀞】 | AH78: 【本庄・上里・神川・美里】 | AP78: 【熊谷】 | AW78: 【深谷・寄居・江南】 | BF78: 【熊谷・深谷】（代表決定戦）
BK84: ー

Sheet 県大会申込書
A1: =""&入力項目!A1&入力項目!D1&入力項目!G1 -> 令和8年度 | I1: =""&入力項目!I2 -> 新人 | M1: 体育大会参加申込書
A3: サッカー | Q3: 郡市名 | S3: =""&入力項目!AL4
A5: ふ り が な | D5: =""&入力項目!I4
A6: チーム名 | D6: =""&入力項目!I5
A7: 所在地 | D7: =""&入力項目!I6
A8: 電 話 | D8: =""&入力項目!H7 | F8: （ | G8: =""&入力項目!M7 | H8: ） | I8: =""&入力項目!Q7 | L8: F A X | M8: =""&入力項目!AD7 | N8: （ | O8: =""&入力項目!AI7 | Q8: ） | R8: =""&入力項目!AM7 | W8: =D8&F8&G8&H8&I8 -> （）
A9: ふ り が な | C9: =""&入力項目!J9&" "&入力項目!P9 | L9: ふ り が な | M9: =""&入力項目!AE9&" "&入力項目!AK9
A10: 監督名 | C10: =""&入力項目!J10&" "&入力項目!P10 | L10: 主将名 | M10: =""&入力項目!AE10&" "&入力項目!AK10
A11: 帯 同 | C11: ① | D11: =""&入力項目!J20 | H11: （ | I11: =入力項目!Y21 -> 0 | N11: ） | O11: 審判級 | Q11: =""&入力項目!AM20 | U11: 級 | W11: =D11&" "&D12
A12: 審判員名 | C12: ② | D12: =""&入力項目!J22 | H12: （ | I12: =入力項目!Y23 -> 0 | N12: ） | O12: 審判級 | Q12: =""&入力項目!AM22 | U12: 級
A14: 外 部 | C14: ふ り が な | F14: =""&入力項目!J12 | M14: 性 別 | N14: =""&入力項目!Y15 | Q14: 年 齢 | S14: =""&入力項目!AI15
C15: 氏 名 | F15: =""&入力項目!J13
A16: コーチ | M16: 職業等 | N16: =""&入力項目!L15
C17: 住 所 | F17: =""&入力項目!K14 | M17: 電 話 | N17: =""&入力項目!AD12 | Q17: （ | R17: =入力項目!AI12&"" | S17: ） | T17: =""&入力項目!AM12
A18: 部活動 指導員 | C18: ふ り が な | F18: =""&入力項目!J16 | M18: 性 別 | N18: =""&入力項目!Y19 | Q18: 年 齢 | S18: =""&入力項目!AI19
C19: 氏 名 | F19: =""&入力項目!J17
M20: 任命者 | N20: =""&入力項目!L19
B22: 背番号 | C22: 位 置 | G22: 選 手 名 | M22: 学年
A23: 1 | B23: =VALUE(入力項目!D31)&"" -> 0 | C23: =""&入力項目!G31 | G23: =""&入力項目!K31 | K23: =""&入力項目!R31 | M23: =""&入力項目!AI31 | N23: 年
A24: 2 | B24: =VALUE(入力項目!D32)&"" -> 0 | C24: =""&入力項目!G32 | G24: =""&入力項目!K32 | K24: =""&入力項目!R32 | M24: =""&入力項目!AI32 | N24: 年
A25: 3 | B25: =VALUE(入力項目!D33)&"" -> 0 | C25: =""&入力項目!G33 | G25: =""&入力項目!K33 | K25: =""&入力項目!R33 | M25: =""&入力項目!AI33 | N25: 年
A26: 4 | B26: =VALUE(入力項目!D34)&"" -> 0 | C26: =""&入力項目!G34 | G26: =""&入力項目!K34 | K26: =""&入力項目!R34 | M26: =""&入力項目!AI34 | N26: 年
A27: 5 | B27: =VALUE(入力項目!D35)&"" -> 0 | C27: =""&入力項目!G35 | G27: =""&入力項目!K35 | K27: =""&入力項目!R35 | M27: =""&入力項目!AI35 | N27: 年
A28: 6 | B28: =VALUE(入力項目!D36)&"" -> 0 | C28: =""&入力項目!G36 | G28: =""&入力項目!K36 | K28: =""&入力項目!R36 | M28: =""&入力項目!AI36 | N28: 年
A29: 7 | B29: =VALUE(入力項目!D37)&"" -> 0 | C29: =""&入力項目!G37 | G29: =""&入力項目!K37 | K29: =""&入力項目!R37 | M29: =""&入力項目!AI37 | N29: 年
A30: 8 | B30: =VALUE(入力項目!D38)&"" -> 0 | C30: =""&入力項目!G38 | G30: =""&入力項目!K38 | K30: =""&入力項目!R38 | M30: =""&入力項目!AI38 | N30: 年
A31: 9 | B31: =VALUE(入力項目!D39)&"" -> 0 | C31: =""&入力項目!G39 | G31: =""&入力項目!K39 | K31: =""&入力項目!R39 | M31: =""&入力項目!AI39 | N31: 年
A32: 10 | B32: =VALUE(入力項目!D40)&"" -> 0 | C32: =""&入力項目!G40 | G32: =""&入力項目!K40 | K32: =""&入力項目!R40 | M32: =""&入力項目!AI40 | N32: 年
A33: 11 | B33: =VALUE(入力項目!D41)&"" -> 0 | C33: =""&入力項目!G41 | G33: =""&入力項目!K41 | K33: =""&入力項目!R41 | M33: =""&入力項目!AI41 | N33: 年
A34: 12 | B34: =VALUE(入力項目!D42)&"" -> 0 | C34: =""&入力項目!G42 | G34: =""&入力項目!K42 | K34: =""&入力項目!R42 | M34: =""&入力項目!AI42 | N34: 年
... A47: 25 | B47: =VALUE(入力項目!D55)&"" -> 0 | C47: =""&入力項目!G55 | G47: =""&入力項目!K55 | K47: =""&入力項目!R55 | M47: =""&入力項目!AI55 | N47: 年
A48: 本大会の大会結果及び報道発表、ホームページにおける氏名・学校名・学年・写真等の個人情報の掲載については、本人及び保護者の同意を得ています。同意が得られない場合は、その旨を明らかにします。
B49: 大会参加費 1000円× | G49: =""&入力項目!Q57 | K49: 人＝ | M49: =""&入力項目!AB57 -> 0 | Q49: 円
B50: 上記のとおり参加申し込みをいたします。
B52: 令和 | E52: =""&入力項目!Z1 -> ８ | G52: 年 | H52: =""&入力項目!AF1 | J52: 月 | L52: =""&入力項目!AL1 | M52: 日
L54: 学校長氏名 | N54: =""&入力項目!J8&" "&入力項目!P8 | T54: 印
B56: 大会事務局 様

Sheet プログラム原稿
A1: 学校名 | K1: =県大会申込書!D6&"" | AG1: 電話 | AJ1: =県大会申込書!D8&"" | AN1: （ | AO1: =県大会申込書!G8&"" | AT1: ） | AU1: =県大会申込書!I8&""
A2: 所在地 | K2: =県大会申込書!D7&""
A3: 監督 | K3: =県大会申込書!C10&"" | Z3: 主将名 | AI3: =入力項目!AE10&"" | AR3: =入力項目!AK10&""
A4: コーチングスタッフ | J4: =入力項目!H11&" "&入力項目!P11&"" | AH4: =入力項目!R11&" "&入力項目!X11&""
A5: (学)顧問・学校関係者 (部）部活動指導員 (外)外部指導者 | J5: =入力項目!Z11&" "&入力項目!AG11&"" | AH5: =入力項目!AI11&" "&入力項目!AP11&""
A6: 帯同審判 | K6: =県大会申込書!D11&"" | U6: ="("&入力項目!T20&")" -> () | AE6: =県大会申込書!D12&"" | AM6: ="("&入力項目!T22&")" -> ()
A7: ユニフォーム | J7: フィールド | O7: 正 | Q7: =""&入力項目!T25 | W7: / | X7: =""&入力項目!AB25 | AB7: / | AC7: =""&入力項目!AJ25 | AG7: 副 | AI7: =""&入力項目!T26 | AM7: / | AN7: =""&入力項目!AB26 | AT7: / | AU7: =""&入力項目!AJ26
J8: GK | Q8: =""&入力項目!T27 | W8: / | X8: =""&入力項目!AB27 | AB8: / | AC8: =""&入力項目!AJ27 | AI8: =""&入力項目!T28 | AM8: / | AN8: =""&入力項目!AB28 | AT8: / | AU8: =""&入力項目!AJ28
J9: *シャツ、ショーツ、ストッキングの順
A10: 番号 | E10: 背番号 | I10: 位置 | L10: 選 手 名 | AC10: 学年 | AF10: 前所属チーム
A11: 1 | E11: =VALUE(県大会申込書!B23)&"" -> 0 | I11: =""&入力項目!G31 | M11: =県大会申込書!G23&"" | V11: =県大会申込書!K23&"" | AC11: =県大会申込書!M23&"" | AF11: =入力項目!AL31&""
A12: 2 | E12: =VALUE(県大会申込書!B24)&"" -> 0 | I12: =""&入力項目!G32 | M12: =県大会申込書!G24&"" | V12: =県大会申込書!K24&"" | AC12: =県大会申込書!M24&"" | AF12: =入力項目!AL32&""
A13: 3 | E13: =VALUE(県大会申込書!B25)&"" -> 0 | I13: =""&入力項目!G33 | M13: =県大会申込書!G25&"" | V13: =県大会申込書!K25&"" | AC13: =県大会申込書!M25&"" | AF13: =入力項目!AL33&""
A14: 4 | E14: =VALUE(県大会申込書!B26)&"" -> 0 | I14: =""&入力項目!G34 | M14: =県大会申込書!G26&"" | V14: =県大会申込書!K26&"" | AC14: =県大会申込書!M26&"" | AF14: =入力項目!AL34&""
A15: 5 | E15: =VALUE(県大会申込書!B27)&"" -> 0 | I15: =""&入力項目!G35 | M15: =県大会申込書!G27&"" | V15: =県大会申込書!K27&"" | AC15: =県大会申込書!M27&"" | AF15: =入力項目!AL35&""
A16: 6 | E16: =VALUE(県大会申込書!B28)&"" -> 0 | I16: =""&入力項目!G36 | M16: =県大会申込書!G28&"" | V16: =県大会申込書!K28&"" | AC16: =県大会申込書!M28&"" | AF16: =入力項目!AL36&""
A17: 7 | E17: =VALUE(県大会申込書!B29)&"" -> 0 | I17: =""&入力項目!G37 | M17: =県大会申込書!G29&"" | V17: =県大会申込書!K29&"" | AC17: =県大会申込書!M29&"" | AF17: =入力項目!AL37&""
A18: 8 | E18: =VALUE(県大会申込書!B30)&"" -> 0 | I18: =""&入力項目!G38 | M18: =県大会申込書!G30&"" | V18: =県大会申込書!K30&"" | AC18: =県大会申込書!M30&"" | AF18: =入力項目!AL38&""
A19: 9 | E19: =VALUE(県大会申込書!B31)&"" -> 0 | I19: =""&入力項目!G39 | M19: =県大会申込書!G31&"" | V19: =県大会申込書!K31&"" | AC19: =県大会申込書!M31&"" | AF19: =入力項目!AL39&""
A20: 10 | E20: =VALUE(県大会申込書!B32)&"" -> 0 | I20: =""&入力項目!G40 | M20: =県大会申込書!G32&"" | V20: =県大会申込書!K32&"" | AC20: =県大会申込書!M32&"" | AF20: =入力項目!AL40&""
A21: 11 | E21: =VALUE(県大会申込書!B33)&"" -> 0 | I21: =""&入力項目!G41 | M21: =県大会申込書!G33&"" | V21: =県大会申込書!K33&"" | AC21: =県大会申込書!M33&"" | AF21: =入力項目!AL41&""
A22: 12 | E22: =VALUE(県大会申込書!B34)&"" -> 0 | I22: =""&入力項目!G42 | M22: =県大会申込書!G34&"" | V22: =県大会申込書!K34&"" | AC22: =県大会申込書!M34&"" | AF22: =入力項目!AL42&""
... A35: 25 | E35: =VALUE(県大会申込書!B47)&"" -> 0 | I35: =""&入力項目!G55 | M35: =県大会申込書!G47&"" | V35: =県大会申込書!K47&"" | AC35: =県大会申込書!M47&"" | AF35: =入力項目!AL55&""

Sheet メンバー提出用紙
B1: メンバー提出用紙 | Q1: 開催日： | AC1: 年 | AG1: 月 | AK1: 日
Q3: 対戦相手：
F6: =IF(県大会申込書!I1="","",県大会申込書!A1&"埼玉県"&県大会申込書!I1&"体育大会") -> 令和8年度埼玉県新人体育大会
C8: チーム名 | H8: =県大会申込書!D6
A10: CAP | C10: 背番号 | F10: ポジション | I10: 選 手 氏 名 | Q10: 学年 | T10: 当日 登録選手 | W10: 先発 選手 | Z10: 交代順 等
Z11: 前半 | AF11: 後半
C12: =VALUE(入力項目!D31) -> 0 | F12: =ASC(入力項目!G31) | I12: =入力項目!Y31 -> 0 | M12: =入力項目!AD31 -> 0 | Q12: =入力項目!AI31 -> 0 | AM12: 1
I13: =入力項目!K31 -> 0 | M13: =入力項目!R31 -> 0
C14: =VALUE(入力項目!D32) -> 0 | F14: =ASC(入力項目!G32) | I14: =入力項目!Y32 -> 0 | M14: =入力項目!AD32 -> 0 | Q14: =入力項目!AI32 -> 0 | AM14: 2
I15: =入力項目!K32 -> 0 | M15: =入力項目!R32 -> 0 | AV15: ○
C16: =VALUE(入力項目!D33) -> 0 | F16: =ASC(入力項目!G33) | I16: =入力項目!Y33 -> 0 | M16: =入力項目!AD33 -> 0 | Q16: =入力項目!AI33 -> 0 | AM16: 3 | AV16: △
I17: =入力項目!K33 -> 0 | M17: =入力項目!R33 -> 0 | AV17: ×
C18: =VALUE(入力項目!D34) -> 0 | F18: =ASC(入力項目!G34) | I18: =入力項目!Y34 -> 0 | M18: =入力項目!AD34 -> 0 | Q18: =入力項目!AI34 -> 0 | AM18: 4
I19: =入力項目!K34 -> 0 | M19: =入力項目!R34 -> 0
C20: =VALUE(入力項目!D35) -> 0 | F20: =ASC(入力項目!G35) | I20: =入力項目!Y35 -> 0 | M20: =入力項目!AD35 -> 0 | Q20: =入力項目!AI35 -> 0 | AM20: 5
I21: =入力項目!K35 -> 0 | M21: =入力項目!R35 -> 0
C22: =VALUE(入力項目!D36) -> 0 | F22: =ASC(入力項目!G36) | I22: =入力項目!Y36 -> 0 | M22: =入力項目!AD36 -> 0 | Q22: =入力項目!AI36 -> 0 | AM22: 6
I23: =入力項目!K36 -> 0 | M23: =入力項目!R36 -> 0
C24: =VALUE(入力項目!D37) -> 0 | F24: =ASC(入力項目!G37) | I24: =入力項目!Y37 -> 0 | M24: =入力項目!AD37 -> 0 | Q24: =入力項目!AI37 -> 0 | AM24: 7
I25: =入力項目!K37 -> 0 | M25: =入力項目!R37 -> 0
C26: =VALUE(入力項目!D38) -> 0 | F26: =ASC(入力項目!G38) | I26: =入力項目!Y38 -> 0 | M26: =入力項目!AD38 -> 0 | Q26: =入力項目!AI38 -> 0 | AM26: 8
I27: =入力項目!K38 -> 0 | M27: =入力項目!R38 -> 0
C28: =VALUE(入力項目!D39) -> 0 | F28: =ASC(入力項目!G39) | I28: =入力項目!Y39 -> 0 | M28: =入力項目!AD39 -> 0 | Q28: =入力項目!AI39 -> 0 | AM28: 9
I29: =入力項目!K39 -> 0 | M29: =入力項目!R39 -> 0
C30: =VALUE(入力項目!D40) -> 0 | F30: =ASC(入力項目!G40) | I30: =入力項目!Y40 -> 0 | M30: =入力項目!AD40 -> 0 | Q30: =入力項目!AI40 -> 0 | AM30: 10
I31: =入力項目!K40 -> 0 | M31: =入力項目!R40 -> 0
C32: =VALUE(入力項目!D41) -> 0 | F32: =ASC(入力項目!G41) | I32: =入力項目!Y41 -> 0 | M32: =入力項目!AD41 -> 0 | Q32: =入力項目!AI41 -> 0 | AM32: 11
I33: =入力項目!K41 -> 0 | M33: =入力項目!R41 -> 0
C34: =VALUE(入力項目!D42) -> 0 | F34: =ASC(入力項目!G42) | I34: =入力項目!Y42 -> 0 | M34: =入力項目!AD42 -> 0 | Q34: =入力項目!AI42 -> 0 | AM34: 12
I35: =入力項目!K42 -> 0 | M35: =入力項目!R42 -> 0
C36: =VALUE(入力項目!D43) -> 0 | F36: =ASC(入力項目!G43) | I36: =入力項目!Y43 -> 0 | M36: =入力項目!AD43 -> 0 | Q36: =入力項目!AI43 -> 0 | AM36: 13
I37: =入力項目!K43 -> 0 | M37: =入力項目!R43 -> 0
C38: =VALUE(入力項目!D44) -> 0 | F38: =ASC(入力項目!G44) | I38: =入力項目!Y44 -> 0 | M38: =入力項目!AD44 -> 0 | Q38: =入力項目!AI44 -> 0 | AM38: 14
I39: =入力項目!K44 -> 0 | M39: =入力項目!R44 -> 0
C40: =VALUE(入力項目!D45) -> 0 | F40: =ASC(入力項目!G45) | I40: =入力項目!Y45 -> 0 | M40: =入力項目!AD45 -> 0 | Q40: =入力項目!AI45 -> 0 | AM40: 15
I41: =入力項目!K45 -> 0 | M41: =入力項目!R45 -> 0
C42: =VALUE(入力項目!D46) -> 0 | F42: =ASC(入力項目!G46) | I42: =入力項目!Y46 -> 0 | M42: =入力項目!AD46 -> 0 | Q42: =入力項目!AI46 -> 0 | AM42: 16
I43: =入力項目!K46 -> 0 | M43: =入力項目!R46 -> 0
C44: =VALUE(入力項目!D47) -> 0 | F44: =ASC(入力項目!G47) | I44: =入力項目!Y47 -> 0 | M44: =入力項目!AD47 -> 0 | Q44: =入力項目!AI47 -> 0 | AM44: 17
I45: =入力項目!K47 -> 0 | M45: =入力項目!R47 -> 0
C46: =VALUE(入力項目!D48) -> 0 | F46: =ASC(入力項目!G48) | I46: =入力項目!Y48 -> 0 | M46: =入力項目!AD48 -> 0 | Q46: =入力項目!AI48 -> 0 | AM46: 18
I47: =入力項目!K48 -> 0 | M47: =入力項目!R48 -> 0
C48: =VALUE(入力項目!D49) -> 0 | F48: =ASC(入力項目!G49) | I48: =入力項目!Y49 -> 0 | M48: =入力項目!AD49 -> 0 | Q48: =入力項目!AI49 -> 0 | AM48: 12
I49: =入力項目!K49 -> 0 | M49: =入力項目!R49 -> 0
C50: =VALUE(入力項目!D50) -> 0 | F50: =ASC(入力項目!G50) | I50: =入力項目!Y50 -> 0 | M50: =入力項目!AD50 -> 0 | Q50: =入力項目!AI50 -> 0 | AM50: 13
I51: =入力項目!K50 -> 0 | M51: =入力項目!R50 -> 0
C52: =VALUE(入力項目!D51) -> 0 | F52: =ASC(入力項目!G51) | I52: =入力項目!Y51 -> 0 | M52: =入力項目!AD51 -> 0 | Q52: =入力項目!AI51 -> 0 | AM52: 14
I53: =入力項目!K51 -> 0 | M53: =入力項目!R51 -> 0
C54: =VALUE(入力項目!D52) -> 0 | F54: =ASC(入力項目!G52) | I54: =入力項目!Y52 -> 0 | M54: =入力項目!AD52 -> 0 | Q54: =入力項目!AI52 -> 0 | AM54: 15
I55: =入力項目!K52 -> 0 | M55: =入力項目!R52 -> 0
C56: =VALUE(入力項目!D53) -> 0 | F56: =ASC(入力項目!G53) | I56: =入力項目!Y53 -> 0 | M56: =入力項目!AD53 -> 0 | Q56: =入力項目!AI53 -> 0 | AM56: 16
I57: =入力項目!K53 -> 0 | M57: =入力項目!R53 -> 0
C58: =VALUE(入力項目!D54) -> 0 | F58: =ASC(入力項目!G54) | I58: =入力項目!Y54 -> 0 | M58: =入力項目!AD54 -> 0 | Q58: =入力項目!AI54 -> 0 | AM58: 17
I59: =入力項目!K54 -> 0 | M59: =入力項目!R54 -> 0
C60: =VALUE(入力項目!D55) -> 0 | F60: =ASC(入力項目!G55) | I60: =入力項目!Y55 -> 0 | M60: =入力項目!AD55 -> 0 | Q60: =入力項目!AI55 -> 0 | AM60: 18
I61: =入力項目!K55 -> 0 | M61: =入力項目!R55 -> 0
C62: 役 職 | G62: スタッフ名 | S62: 先発選手：（○）
S63: ユニフォームの色に○をつけてください
C64: 監 督 | G64: =プログラム原稿!K3&"" | S64: フィールドプレーヤー | AC64: シャツ | AF64: ショーツ | AI64: ソックス
C65: コーチ | G65: =プログラム原稿!J4&"" | S65: 正 | AC65: =入力項目!T25&"" | AF65: =入力項目!AB25&"" | AI65: =入力項目!AJ25&""
C66: コーチ | G66: =プログラム原稿!AH4 | S66: 副 | AC66: =入力項目!T26&"" | AF66: =入力項目!AB26&"" | AI66: =入力項目!AJ26&""
C67: コーチ | G67: =プログラム原稿!J5 | S67: ゴールキーパー | AC67: シャツ | AF67: ショーツ | AI67: ソックス
C68: コーチ | G68: =プログラム原稿!AH5 | S68: 正 | AC68: =入力項目!T27&"" | AF68: =入力項目!AB27&"" | AI68: =入力項目!AJ27&""
A69: 監督署名： | S69: 副 | AC69: =入力項目!T28&"" | AF69: =入力項目!AB28&"" | AI69: =入力項目!AJ28&""
A71: 【注意】
B72: １ このメンバー表はキックオフ 70 分前のマネージャーズミーティング時に４部（本部用，審判用，自チーム用，相手チーム用）提出すること（A４サイズ）
B73: ２ ベンチ入りできる人数は上記に記載された役員(外部コーチを含む)と控え選手７名までとする
B74: ３ ポジションは実際の位置に即して各選手とも入れてください
B75: ４ ポジション・コーチ名を変更する場合は、二重線で消して修正してください。なお，役員には当日ベンチ入りするスタッフに〇をつけ、上位のコーチから１～5の番号を振ってください。

Sheet 交代用紙
A1: 選 手 交 代 票 | M1: 選 手 交 代 票
A2: =""&県大会申込書!D6 | E2: 対 | M2: =""&A2 | Q2: 対
A3: 自チーム名 | F3: 交代回数 | M3: 自チーム名 | R3: 交代回数
A4: =A2 | M4: =A2
D5: 氏名 | I5: 背番号 | P5: 氏名 | U5: 背番号
A6: 入場 | M6: 入場
A7: 退場 | M7: 退場
A8: 前後半 | C8: 分 | E8: 日付 | G8: 試合会場 | M8: 前後半 | O8: 分 | Q8: 日付 | S8: 試合会場
A10: 監督・コーチ署名 | M10: 監督・コーチ署名
A11: 埼玉県中学校体育連盟サッカー専門部 | M11: 埼玉県中学校体育連盟サッカー専門部
A13: 選 手 交 代 票 | M13: 選 手 交 代 票
A14: =A2 | E14: 対 | M14: =A14 | Q14: 対
A15: 自チーム名 | F15: 交代回数 | M15: 自チーム名 | R15: 交代回数
A16: =A14 | M16: =M14
D17: 氏名 | I17: 背番号 | P17: 氏名 | U17: 背番号
A18: 入場 | M18: 入場
A19: 退場 | M19: 退場
A20: 前後半 | C20: 分 | E20: 日付 | G20: 試合会場 | M20: 前後半 | O20: 分 | Q20: 日付 | S20: 試合会場
A22: 監督・コーチ署名 | M22: 監督・コーチ署名
A23: 埼玉県中学校体育連盟サッカー専門部 | M23: 埼玉県中学校体育連盟サッカー専門部

Sheet 登録変更用紙
H1: 埼玉県中学校体育連盟サッカー専門部
A2: 令和 ８ 年度
A3: 埼玉県新人体育大会登録選手・監督・コーチ・外部指導者変更届
A4: 学 校 名 | F4: 学校Ｔel | G4: （ ）
A5: 所 在 地 | F5: 自宅Ｔel | G5: （ ）
A6: 監 督 名 | F6: 携帯Ｔel | G6: （ ）
A7: １．登録抹消選手
A8: 背番号 | B8: 位 置 | C8: 選 手 名 | F8: 学 年 | G8: 身長(cm) | H8: 体重(kg)
A13: ２．新規登録者
A14: 背番号 | B14: 位 置 | C14: 選 手 名 | F14: 学 年 | G14: 身長(cm) | H14: 体重(kg)
A19: ３．変更前の監督・コーチ・外部指導者 | F19: ４．変更後の監督・コーチ・外部指導者
A20: 監督名 | F20: 監督名
A21: コーチ名 | F21: コーチ名
A22: コーチ名 | F22: コーチ名
A23: 外部指導者名 | F23: 外部指導者名
A25: 以上、登録選手、監督、コーチ、外部指導者の変更をお願いいたします。
B27: 令和 ８ 年 月 日
A29: サッカー専門部委員長 様
D33: 中学校 学校長 印
A35: ※外部指導者名変更の場合のみ、職員を押印し提出すること。
A36: ※監督、コーチが学校事情などの不測な事態で引率できない場合は、代理の方がベンチ入りすることを
A37: 許可する。 | C37: 但し、大会運営本部にその旨を申し出ること。

Sheet ユニフォーム確認書
H1: 令和 年 月 日
A2: 埼玉県中学校体育連盟
A3: サッカー専門部 委員長 様
A4: ユニフォーム確認書及び懲戒処分者報告書
A5: 県大会出場に際して，下記のユニフォーム規定に相違ないことを承認いたします。
A6: 地区名
A7: 専門委員長 | B7: 【直筆サイン】
A9: 学校名
A10: 顧問名
A11: 学校住所
A12: TEL
A13: 携帯番号
A14: FAX
A15: 【ユニフォーム】 | C15: ※ すべてが異色の組合せになるようにしてください。
A16: ユニフォーム色 | C16: シャツ | D16: ショーツ | F16: ｽﾄｯｷﾝｸﾞ | G16: GKｼｬﾂ | H16: GKｼｮｰﾂ | I16: GKｽﾄｯｷﾝｸﾞ
B17: 正
B18: 副
A19: 【懲戒処分者】 有 ・ 無 (いずれかに○を囲んでください。)
A20: 背番号 | B20: 選手・役員 氏名 | E20: ふりがな | G20: 懲罰内容/処分内容
A25: ※ 懲罰内容（例：得点機会の阻止のため直近の公式戦1試合出場停止 など）
A26: ※ 処分内容（例：2試合の出場停止 など）
